BEGIN:VCALENDAR
VERSION:2.0
PRODID:-//meme - ECPv6.15.11//NONSGML v1.0//EN
CALSCALE:GREGORIAN
METHOD:PUBLISH
X-ORIGINAL-URL:https://meme-usa.jp
X-WR-CALDESC:meme のイベント
REFRESH-INTERVAL;VALUE=DURATION:PT1H
X-Robots-Tag:noindex
X-PUBLISHED-TTL:PT1H
BEGIN:VTIMEZONE
TZID:Asia/Tokyo
BEGIN:STANDARD
TZOFFSETFROM:+0900
TZOFFSETTO:+0900
TZNAME:JST
DTSTART:20250101T000000
END:STANDARD
END:VTIMEZONE
BEGIN:VEVENT
DTSTART;VALUE=DATE:20260417
DTEND;VALUE=DATE:20260418
DTSTAMP:20260421T230617
CREATED:20260416T220215Z
LAST-MODIFIED:20260417T012729Z
UID:2176-1776384000-1776470399@meme-usa.jp
SUMMARY:4月17日 本日のメニュー
DESCRIPTION:本日のおすすめ \nサクラマスとマッシュルームのムニエル弁当 \n \n【本日で終了！限定3食！】春限定の佐渡のサクラマスです。脂がのった旨みと甘みがたまりません。 \n900円（税込）+ 100円 \n  \n\n  −\n  0\n  ＋\n\n\n\n商品名をコピー\nLINEで注文\n\n\n本日のmenu\n\n \n肉弁\n\n \n\n\n \n\n\nコルドンブルー弁当\n  \n\n900円（税込）\n\n  −\n  0\n  ＋\n\n\n\n商品名をコピー\nLINEで注文\n\n \n \n肉弁\n\n \n\n\n \n\n\nクリスピーチキン弁当\n  \n\n900円（税込）\n\n  −\n  0\n  ＋\n\n\n\n商品名をコピー\nLINEで注文\n\n \n \n肉弁\n\n \n\n\n \n\n\n【NEW】鶏もも肉の醤油糀の唐揚げ弁当\n  \n\n900円（税込）\n\n  −\n  0\n  ＋\n\n\n\n商品名をコピー\nLINEで注文\n\n \n \n魚弁\n\n \n\n\n \n\n\nホッケのフライ弁当\n  \nタルタルソース \n900円（税込）\n\n  −\n  0\n  ＋\n\n\n\n商品名をコピー\nLINEで注文\n\n \n \n魚弁\n\n \n\n \n\n\nサルサソースで作る鰤(ぶり)の南蛮漬け弁当\n  \n\n900円（税込）\n\n  −\n  0\n  ＋\n\n\n\n商品名をコピー\nLINEで注文\n\n \n \nスープ\n\n \n\n\n \n\n\n新玉ねぎと小松菜のポタージュ\n  \n\n270円（税込）\n\n  −\n  0\n  ＋\n\n\n\n商品名をコピー\nLINEで注文\n\n \n\n\n \n単品\n\n \n\n\n \n\n\n【NEW】鶏もも肉の醤油糀の唐揚げ \n\n1個130円（税込）\n\n  −\n  0\n  ＋\n\n\n\n商品名をコピー\nLINEで注文\n\n \n\n\n\n     \n\n\n    —111213141516171819\n    時\n  \n\n    —00153045\n    分\n  \n\n\n\n      合計：0点\n    \n    LINEで注文する
URL:https://meme-usa.jp/menu/4%e6%9c%8817%e6%97%a5-%e6%9c%ac%e6%97%a5%e3%81%ae%e3%83%a1%e3%83%8b%e3%83%a5%e3%83%bc/
ATTACH;FMTTYPE=image/jpeg:https://meme-usa.jp/wp-content/uploads/2026/04/IMG_9870-1.jpeg
END:VEVENT
BEGIN:VEVENT
DTSTART;VALUE=DATE:20260420
DTEND;VALUE=DATE:20260421
DTSTAMP:20260421T230617
CREATED:20260420T004827Z
LAST-MODIFIED:20260420T221915Z
UID:2181-1776643200-1776729599@meme-usa.jp
SUMMARY:4月20日 本日のメニュー
DESCRIPTION:本日のおすすめ \n鱈(たら)の香味醤油弁当 \n \nたら芽のひたし添え \n900円（税込） \n  \n\n  −\n  0\n  ＋\n\n\n\n商品名をコピー\nLINEで注文\n\n\n本日のmenu\n\n \n肉弁\n\n \n\n\n \n\n\nクリスピーチキン弁当\n  \n\n900円（税込）\n\n  −\n  0\n  ＋\n\n\n\n商品名をコピー\nLINEで注文\n\n \n \n肉弁\n\n \n\n\n \n\n\nコルドンブルー弁当\n  \n\n900円（税込）\n\n  −\n  0\n  ＋\n\n\n\n商品名をコピー\nLINEで注文\n\n \n \n肉弁\n\n \n\n\n \n\n\n若鶏のスパイスからげ弁当\n  \n玉ねぎ、にんにく、クミン、コリアンダーに漬け込んでます \n900円（税込）\n\n  −\n  0\n  ＋\n\n\n\n商品名をコピー\nLINEで注文\n\n \n \n肉弁\n\n \n\n\n \n\n\n【NEW】鶏もも肉の醤油糀の唐揚げ弁当\n  \n\n900円（税込）\n\n  −\n  0\n  ＋\n\n\n\n商品名をコピー\nLINEで注文\n\n \n \n魚弁\n\n \n\n\n \n\n\nホッケのフライ弁当\n  \n\n900円（税込）\n\n  −\n  0\n  ＋\n\n\n\n商品名をコピー\nLINEで注文\n\n \n \n魚弁\n\n \n\n\n \n\n\n鮭の酒粕漬け焼き弁当\n  \n\n900円（税込）\n\n  −\n  0\n  ＋\n\n\n\n商品名をコピー\nLINEで注文\n\n \n \nスープ\n\n \n\n\n \n\n\nトマトと甘酒のポタージュ\n  \n\n270円（税込）\n\n  −\n  0\n  ＋\n\n\n\n商品名をコピー\nLINEで注文\n\n \n\n\n \n単品\n\n \n\n\n \n\n\nスパイシー唐揚げ \n玉ねぎ、にんにく、クミン、コリアンダーに漬け込んでます \n1個130円（税込）\n\n  −\n  0\n  ＋\n\n\n\n商品名をコピー\nLINEで注文\n\n \n \n単品\n\n \n\n\n \n\n\n【NEW】鶏もも肉の醤油糀の唐揚げ \n\n1個130円（税込）\n\n  −\n  0\n  ＋\n\n\n\n商品名をコピー\nLINEで注文\n\n \n\n\n\n     \n\n\n    —111213141516171819\n    時\n  \n\n    —00153045\n    分\n  \n\n\n\n      合計：0点\n    \n    LINEで注文する
URL:https://meme-usa.jp/menu/4%e6%9c%8820%e6%97%a5-%e6%9c%ac%e6%97%a5%e3%81%ae%e3%83%a1%e3%83%8b%e3%83%a5%e3%83%bc/
ATTACH;FMTTYPE=image/jpeg:https://meme-usa.jp/wp-content/uploads/2026/04/IMG_9957.jpeg
END:VEVENT
BEGIN:VEVENT
DTSTART;VALUE=DATE:20260421
DTEND;VALUE=DATE:20260422
DTSTAMP:20260421T230617
CREATED:20260421T003146Z
LAST-MODIFIED:20260421T015211Z
UID:2191-1776729600-1776815999@meme-usa.jp
SUMMARY:4月21日 本日のメニュー
DESCRIPTION:本日のおすすめ \nチキンフランセーズ弁当 \n \n鶏むね肉のフランス風ピカタ \n900円（税込） \n  \n\n  −\n  0\n  ＋\n\n\n\n商品名をコピー\nLINEで注文\n\n\n本日のmenu\n\n \n肉弁\n\n \n\n\n \n\n\nクリスピーチキン弁当\n  \n\n900円（税込）\n\n  −\n  0\n  ＋\n\n\n\n商品名をコピー\nLINEで注文\n\n \n \n肉弁\n\n \n\n\n \n\n\n若鶏のスパイスからげ弁当\n  \n玉ねぎ、にんにく、クミン、コリアンダーに漬け込んでます \n900円（税込）\n\n  −\n  0\n  ＋\n\n\n\n商品名をコピー\nLINEで注文\n\n \n \n肉弁\n\n \n\n\n \n\n\n【NEW】鶏もも肉の醤油糀の唐揚げ弁当\n  \n\n900円（税込）\n\n  −\n  0\n  ＋\n\n\n\n商品名をコピー\nLINEで注文\n\n \n \n魚弁\n\n \n\n\n \n\n\nホッケのフライ弁当\n  \n\n900円（税込）\n\n  −\n  0\n  ＋\n\n\n\n商品名をコピー\nLINEで注文\n\n \n \n魚弁\n\n \n\n \n\n\nブリのココナッツ煮込み弁当\n  \n\n900円（税込）\n\n  −\n  0\n  ＋\n\n\n\n商品名をコピー\nLINEで注文\n\n \n \n魚弁\n\n \n\n\n \n\n\n鮭の酒粕漬け焼き弁当\n  \n\n900円（税込）\n\n  −\n  0\n  ＋\n\n\n\n商品名をコピー\nLINEで注文\n\n \n \nスープ\n\n \n\n \n\n\nヴィシソワーズスープ\n  \nジャガイモポタージュ \n270円（税込）\n\n  −\n  0\n  ＋\n\n\n\n商品名をコピー\nLINEで注文\n\n \n\n\n \n単品\n\n \n\n\n \n\n\nスパイシー唐揚げ \n玉ねぎ、にんにく、クミン、コリアンダーに漬け込んでます \n1個130円（税込）\n\n  −\n  0\n  ＋\n\n\n\n商品名をコピー\nLINEで注文\n\n \n \n単品\n\n \n\n\n \n\n\n【NEW】鶏もも肉の醤油糀の唐揚げ \n\n1個130円（税込）\n\n  −\n  0\n  ＋\n\n\n\n商品名をコピー\nLINEで注文\n\n \n\n\n\n     \n\n\n    —111213141516171819\n    時\n  \n\n    —00153045\n    分\n  \n\n\n\n      合計：0点\n    \n    LINEで注文する
URL:https://meme-usa.jp/menu/4%e6%9c%8821%e6%97%a5-%e6%9c%ac%e6%97%a5%e3%81%ae%e3%83%a1%e3%83%8b%e3%83%a5%e3%83%bc/
ATTACH;FMTTYPE=image/jpeg:https://meme-usa.jp/wp-content/uploads/2026/03/IMG_9504-scaled.jpeg
END:VEVENT
END:VCALENDAR